BEGIN:VCALENDAR
VERSION:2.0
PRODID:icalendar-ruby
CALSCALE:GREGORIAN
METHOD:PUBLISH
BEGIN:VEVENT
DTSTAMP:20260422T172733Z
UID:183-3175957@asburycc.org
DTSTART:20261101T160000Z
DTEND:20261101T170000Z
CLASS:PUBLIC
CREATED:20260422T115659
DESCRIPTION:Kids - we have a special service just for you! You will learn i
 n our Community Life Building (CLB) through a Rotation Workshop Model and 
 enjoy a hands-on learning approach! The Workshop Rotation Kids Program is 
 designed for children in Kindergarten through 5th grade. This model is a w
 onderful approach to growing our children's faith and expanding their know
 ledge of the most important Bible stories and themes. The same Bible story
  is taught for a 3 to 5 week rotation. Each week the children get to exper
 ience the Bible story through a different creative learning style to broad
 en their retention and memory. The workshops include: art\, drama\, Bible 
 skills and games\, cooking\, movie theater\, Lego\, and more!\nParents - p
 lease check your children in before they head over to the Community Life B
 uilding. Kids will be released during the greeting portion of service\, af
 ter the worship time.\nChildren's church is for kids in Kinder - 5th grade
 .
LAST-MODIFIED:20260422T115659
LOCATION:CLB
SUMMARY:Asbury Kids' Church
URL;VALUE=URI:https://www.asburycc.org/events/asbury-kids-church/2026-11-01
ATTACH;FILENAME=Children%E2%80%99s-Church.jpg;FMTTYPE=image/jpeg:https://dq
 5pwpg1q8ru0.cloudfront.net/2024/03/20/14/27/11/9e5851f4-e9fb-47ac-a389-bb6
 143905b5b/Children%25E2%2580%2599s-Church.jpg
END:VEVENT
END:VCALENDAR
